Workbook

Sheet Data
A1: Person | B1: Age | C1: Gender | D1: State | E1: Children | F1: Salary | G1: Opinion
A2: 1 | B2: Middle-aged | C2: 2 | D2: Texas | E2: 2 | F2: 63017 | G2: Strongly agree
A3: 2 | B3: Middle-aged | C3: 2 | D3: Virginia | E3: 3 | F3: 100302 | G3: Strongly disagree
A4: 3 | B4: Middle-aged | C4: 2 | D4: California | E4: 0 | F4: 144043 | G4: Strongly agree
A5: 4 | B5: Young | C5: 2 | D5: California | E5: 0 | F5: 36025 | G5: Agree
A6: 5 | B6: Middle-aged | C6: 1 | D6: Texas | E6: 0 | F6: 97543 | G6: Neutral
A7: 6 | B7: Middle-aged | C7: 1 | D7: California | E7: 3 | F7: 69222 | G7: Disagree
A8: 7 | B8: Middle-aged | C8: 2 | D8: Michigan | E8: 2 | F8: 81799 | G8: Disagree
A9: 8 | B9: Middle-aged | C9: 2 | D9: Texas | E9: 1 | F9: 101894 | G9: Agree
A10: 9 | B10: Middle-aged | C10: 1 | D10: Virginia | E10: 0 | F10: 83843 | G10: Strongly disagree
A11: 10 | B11: Middle-aged | C11: 1 | D11: Illinois | E11: 3 | F11: 87457 | G11: Agree
A12: 11 | B12: Elderly | C12: 2 | D12: Arizona | E12: 0 | F12: 48966 | G12: Disagree
A13: 12 | B13: Middle-aged | C13: 2 | D13: Arizona | E13: 1 | F13: 88855 | G13: Disagree
... A400: 399 | B400: Middle-aged | C400: 2 | D400: Illinois | E400: 2 | F400: 76933 | G400: Strongly agree

Sheet Sheet1
A1: a) Name categorical variables (8 points)
A2: The categorical variables in the data includes
A3: 1. Age
A4: 2. State
A5: 3. Opinion
A6: Name nominal: (2 points)
A7: The following are nominal variables
A8: 1. Opinion
A9: 2. State
A10: Name ordinal: (2 points)
A11: The following are the ordinal variables
A12: 1. Person
... A37: Opinion recoding: (6 points)
B41: gender recoding | C41: children recoding | D41: salary recoding | E41: opinion recoding
B42: =IF(Data!C11,5) -> 5 | C42: =IF(Data!E21,5) -> 5 | D42: =IF(Data!F21,5) -> 5 | E42: =IF(Data!G2111,5) -> FALSE
B43: =IF(Data!C12,5) -> 5 | C43: =IF(Data!E22,5) -> 5 | D43: =IF(Data!F22,5) -> 5 | E43: =IF(Data!G1112,5) -> FALSE
B44: =IF(Data!C13,5) -> 5 | C44: =IF(Data!E23,5) -> 5 | D44: =IF(Data!F23,5) -> 5 | E44: =IF(Data!G1113,5) -> FALSE
B45: =IF(Data!C14,5) -> 5 | C45: =IF(Data!E24,5) -> FALSE | D45: =IF(Data!F24,5) -> 5 | E45: =IF(Data!G1114,5) -> FALSE
B46: =IF(Data!C15,5) -> 5 | C46: =IF(Data!E25,5) -> 5 | D46: =IF(Data!F25,5) -> 5 | E46: =IF(Data!G1115,5) -> FALSE
B47: =IF(Data!C16,5) -> 5 | C47: =IF(Data!E26,5) -> 5 | D47: =IF(Data!F26,5) -> 5 | E47: =IF(Data!G1116,5) -> FALSE
B48: =IF(Data!C17,5) -> 5 | C48: =IF(Data!E27,5) -> 5 | D48: =IF(Data!F27,5) -> 5 | E48: =IF(Data!G1117,5) -> FALSE
B49: =IF(Data!C18,5) -> 5 | C49: =IF(Data!E28,5) -> FALSE | D49: =IF(Data!F28,5) -> 5 | E49: =IF(Data!G1118,5) -> FALSE
B50: =IF(Data!C19,5) -> 5 | C50: =IF(Data!E29,5) -> 5 | D50: =IF(Data!F29,5) -> 5 | E50: =IF(Data!G1119,5) -> FALSE
B51: =IF(Data!C20,5) -> 5 | C51: =IF(Data!E30,5) -> 5 | D51: =IF(Data!F30,5) -> 5 | E51: =IF(Data!G1120,5) -> FALSE
B52: =IF(Data!C21,5) -> 5 | C52: =IF(Data!E31,5) -> FALSE | D52: =IF(Data!F31,5) -> 5 | E52: =IF(Data!G1121,5) -> FALSE
B53: =IF(Data!C22,5) -> 5 | C53: =IF(Data!E32,5) -> 5 | D53: =IF(Data!F32,5) -> 5 | E53: =IF(Data!G1122,5) -> FALSE
B54: =IF(Data!C23,5) -> 5 | C54: =IF(Data!E33,5) -> 5 | D54: =IF(Data!F33,5) -> 5 | E54: =IF(Data!G1123,5) -> FALSE
... B440: =IF(Data!C409,5) -> FALSE | C440: =IF(Data!E419,5) -> FALSE | D440: =IF(Data!F419,5) -> FALSE | E440: =IF(Data!G1509,5) -> FALSE
